BEGIN:VCALENDAR
VERSION:2.0
CALSCALE:GREGORIAN
BEGIN:VEVENT
UID:69e87af74c7da
X-MICROSOFT-CDO-BUSYSTATUS:FREE
DTSTAMP:
LOCATION:na Romance TV Polska
DESCRIPTION:Zbliżają się 40 urodziny Christine\, której grozi kryzys wieku średniego. Jej romans z żonatym Richardem nie wypalił\, ponieważ Richard nie ma najmniejszego zamiaru zostawić swojej żony. Doro\, najlepsza przyjaciółka Christine\, nie wie o romansie. Na szczęście pojawia się Sven\, szarmancki redaktor naczelny kobiecego czasopisma. Christine ma pisać dla niego artykuły. Doro nie ma szczęścia do mężczyzn. Teraz czuje się przez Christine zaniedbywana\, a to prowadzi do gwałtownej kłótni.
SUMMARY:Dora Heldt: Nierozłączni
DTSTART;TZID="(GMT+01.00) Amsterdam / Berlin / Bern / Rome / Stockholm / Vienna":20260430T043000
DTEND;TZID="(GMT+01.00) Amsterdam / Berlin / Bern / Rome / Stockholm / Vienna":20260430T062500
BEGIN:VALARM
TRIGGER:-PT60M
ACTION:DISPLAY
DESCRIPTION:Reminder
END:VALARM
END:VEVENT
END:VCALENDAR
