BEGIN:VCALENDAR
VERSION:2.0
CALSCALE:GREGORIAN
BEGIN:VEVENT
UID:69eac32a16944
X-MICROSOFT-CDO-BUSYSTATUS:FREE
DTSTAMP:
LOCATION:auf Heimatkanal
DESCRIPTION:Ein starrköpfiger Bauer verbirgt seinen Bruder\, der den Verführer der Schwester erschlagen hat\, vor der Polizei. Dramatischer Bergbauernfilm alten Stils nach dem gleichnamigen Roman von Ludwig Ganghofer.
SUMMARY:Der Edelweißkönig
DTSTART;TZID="(GMT+01.00) Amsterdam / Berlin / Bern / Rome / Stockholm / Vienna":20260612T082500
DTEND;TZID="(GMT+01.00) Amsterdam / Berlin / Bern / Rome / Stockholm / Vienna":20260612T095000
BEGIN:VALARM
TRIGGER:-PT60M
ACTION:DISPLAY
DESCRIPTION:Reminder
END:VALARM
END:VEVENT
END:VCALENDAR
