BEGIN:VCALENDAR
VERSION:2.0
CALSCALE:GREGORIAN
BEGIN:VEVENT
UID:69e9a0fcd3467
X-MICROSOFT-CDO-BUSYSTATUS:FREE
DTSTAMP:
LOCATION:auf Heimatkanal
DESCRIPTION:Oberinspektor Derrick verbringt seinen Urlaub in Oberbayern. Dort lernt er den Münchner Albert Grosser kennen. Nach einem Besuch im Spielcasino erhält Derrick einen Anruf von Grosser - man hat ihn niedergeschossen.
SUMMARY:Das dritte Opfer
DTSTART;TZID="(GMT+01.00) Amsterdam / Berlin / Bern / Rome / Stockholm / Vienna":20260614T010500
DTEND;TZID="(GMT+01.00) Amsterdam / Berlin / Bern / Rome / Stockholm / Vienna":20260614T020000
BEGIN:VALARM
TRIGGER:-PT60M
ACTION:DISPLAY
DESCRIPTION:Reminder
END:VALARM
END:VEVENT
END:VCALENDAR
