BEGIN:VCALENDAR
VERSION:2.0
CALSCALE:GREGORIAN
BEGIN:VEVENT
UID:69eac649a25fc
X-MICROSOFT-CDO-BUSYSTATUS:FREE
DTSTAMP:
LOCATION:auf Heimatkanal
DESCRIPTION:Im Landarzthaus herrscht Ausnahmezustand: Eine Nachfolgerin für Schwester Katharina ist noch nicht gefunden\, Bettina steht kurz vor der Prüfung. Jutta will beiden Ärzten gerecht werden und ist völlig überlastet. Doch als Uwe Kuss ihr wenigstens im Haushalt helfen will\, beschwert sich Kerstin. Schließlich erleidet Jutta einen Schwächeanfall und bekommt von Dr. Uli Teschner erst einmal Bettruhe verordnet.
SUMMARY:Hochzeitsbesuch
DTSTART;TZID="(GMT+01.00) Amsterdam / Berlin / Bern / Rome / Stockholm / Vienna":20260615T180500
DTEND;TZID="(GMT+01.00) Amsterdam / Berlin / Bern / Rome / Stockholm / Vienna":20260615T185500
BEGIN:VALARM
TRIGGER:-PT60M
ACTION:DISPLAY
DESCRIPTION:Reminder
END:VALARM
END:VEVENT
END:VCALENDAR
