BEGIN:VCALENDAR
VERSION:2.0
CALSCALE:GREGORIAN
BEGIN:VEVENT
UID:69eac55892cac
X-MICROSOFT-CDO-BUSYSTATUS:FREE
DTSTAMP:
LOCATION:auf Heimatkanal
DESCRIPTION:Keine Chipkarte\, keine Behandlung. Da ist die neue Sprechstundenhilfe Schwester Gertrud eisern. Das muss sogar Eckholm erfahren\, der unvermutet wieder in Deekelsen aufgetaucht ist. In einem anderen Fall erweist sich Gertruds Hartnäckigkeit aber als Segen: Dank seiner Chipkarte kann sie einen der Männer identifizieren\, die Jutta und Floriane beim Segeln belästigt haben.
SUMMARY:Ihre Chipkarte\, bitte
DTSTART;TZID="(GMT+01.00) Amsterdam / Berlin / Bern / Rome / Stockholm / Vienna":20260616T180500
DTEND;TZID="(GMT+01.00) Amsterdam / Berlin / Bern / Rome / Stockholm / Vienna":20260616T185500
BEGIN:VALARM
TRIGGER:-PT60M
ACTION:DISPLAY
DESCRIPTION:Reminder
END:VALARM
END:VEVENT
END:VCALENDAR
