BEGIN:VCALENDAR
VERSION:2.0
CALSCALE:GREGORIAN
BEGIN:VEVENT
UID:69eac6aa28063
X-MICROSOFT-CDO-BUSYSTATUS:FREE
DTSTAMP:
LOCATION:auf Romance TV HD
DESCRIPTION:Ein neues Kapitel in ihrem Leben soll für Jule durch den Umzug und dem eigenen Unternehmen beginnen. Mit ihrem Ehemann Marco ist es abgesprochen\, dass Jule bis zur Einschulung ihrer Tochter Fine Teilzeit arbeitet und sich dann voll und ganz auf ihre Selbsständigkeit konzentriert. Allerdings kommt es anders als geplant.
SUMMARY:Wer füttert den Hasen?
DTSTART;TZID="(GMT+01.00) Amsterdam / Berlin / Bern / Rome / Stockholm / Vienna":20260424T113500
DTEND;TZID="(GMT+01.00) Amsterdam / Berlin / Bern / Rome / Stockholm / Vienna":20260424T131000
BEGIN:VALARM
TRIGGER:-PT60M
ACTION:DISPLAY
DESCRIPTION:Reminder
END:VALARM
END:VEVENT
END:VCALENDAR
