BEGIN:VCALENDAR
VERSION:2.0
CALSCALE:GREGORIAN
BEGIN:VEVENT
UID:69eac65c4fd68
X-MICROSOFT-CDO-BUSYSTATUS:FREE
DTSTAMP:
LOCATION:auf Romance TV HD
DESCRIPTION:Das „Traumschiff“ unter Kapitän Parger und seiner Crew begibt sich auf die Fahrt nach Vancouver. Eine ereignisreiche Reise liegt vor ihnen und ihren Passagieren. Maike Kappes\, eine Freundin von Dr. Jessica Delgado\, ist Gast auf der Reise nach Kanada. Mathematische Berechnungen bestimmen Maikes Leben\, mit denen sie auch ihren Weg zur großen Liebe zu planen versucht.
SUMMARY:Das Traumschiff - Vancouver
DTSTART;TZID="(GMT+01.00) Amsterdam / Berlin / Bern / Rome / Stockholm / Vienna":20260424T201500
DTEND;TZID="(GMT+01.00) Amsterdam / Berlin / Bern / Rome / Stockholm / Vienna":20260424T215000
BEGIN:VALARM
TRIGGER:-PT60M
ACTION:DISPLAY
DESCRIPTION:Reminder
END:VALARM
END:VEVENT
END:VCALENDAR
