BEGIN:VCALENDAR
VERSION:2.0
CALSCALE:GREGORIAN
BEGIN:VEVENT
UID:69eac65d45557
X-MICROSOFT-CDO-BUSYSTATUS:FREE
DTSTAMP:
LOCATION:auf Romance TV HD
DESCRIPTION:Kapitän Paulsen und Chefstewardess Beatrice sind erstaunt\, wie viel Zeit der Schiffsarzt Dr. Schröder mit der schönen Dr. Ellen Barner verbringt. Ein weiterer Passagier ist Roland Wagner\, ehemaliger Spitzensportler. Seine Querschnittslähmung hindert den jungen Mann nicht nur an seiner eisernen Sportlerkarriere\, sondern stellt auch seine Beziehung zu Freundin Caro auf eine harte Probe.
SUMMARY:Das Traumschiff - Indian Summer
DTSTART;TZID="(GMT+01.00) Amsterdam / Berlin / Bern / Rome / Stockholm / Vienna":20260425T001000
DTEND;TZID="(GMT+01.00) Amsterdam / Berlin / Bern / Rome / Stockholm / Vienna":20260425T014500
BEGIN:VALARM
TRIGGER:-PT60M
ACTION:DISPLAY
DESCRIPTION:Reminder
END:VALARM
END:VEVENT
END:VCALENDAR
