BEGIN:VCALENDAR
VERSION:2.0
CALSCALE:GREGORIAN
BEGIN:VEVENT
UID:69e9b9a0d4444
X-MICROSOFT-CDO-BUSYSTATUS:FREE
DTSTAMP:
LOCATION:auf Romance TV HD
DESCRIPTION:Die junge Starköchin Caroline Wilson führt mit ihrer Mutter ein gefragtes Restaurant mitten in New York. Als sie ein Cafe in dem australischen Städtchen Lemon Myrtle Cove erbt\, möchte sie es so schnell wie möglich verkaufen. Je länger sich Caroline in Lemon Myrtle Cove allerdings aufhält\, desto mehr findet sie Gefallen an dem Ort\, dem Cafe und dem attraktiven Koch.
SUMMARY:Romantik à la Carte
DTSTART;TZID="(GMT+01.00) Amsterdam / Berlin / Bern / Rome / Stockholm / Vienna":20260506T174500
DTEND;TZID="(GMT+01.00) Amsterdam / Berlin / Bern / Rome / Stockholm / Vienna":20260506T192500
BEGIN:VALARM
TRIGGER:-PT60M
ACTION:DISPLAY
DESCRIPTION:Reminder
END:VALARM
END:VEVENT
END:VCALENDAR
