BEGIN:VCALENDAR
VERSION:2.0
CALSCALE:GREGORIAN
BEGIN:VEVENT
UID:69e9aabf231f8
X-MICROSOFT-CDO-BUSYSTATUS:FREE
DTSTAMP:
LOCATION:na Romance TV Polska
DESCRIPTION:Brat menedżerki Addison Bruke miał wypadek i grozi mu za to zwolnienie z pracy. Addison chciałaby pomóc swojemu bratu i zastępuje asystentkę miliardera Justina Rossa. Addison i biznesmen wyjeżdżają służbowo i zbliżają się do siebie.
SUMMARY:Piękna i miliarder
DTSTART;TZID="(GMT+01.00) Amsterdam / Berlin / Bern / Rome / Stockholm / Vienna":20260430T141500
DTEND;TZID="(GMT+01.00) Amsterdam / Berlin / Bern / Rome / Stockholm / Vienna":20260430T160500
BEGIN:VALARM
TRIGGER:-PT60M
ACTION:DISPLAY
DESCRIPTION:Reminder
END:VALARM
END:VEVENT
END:VCALENDAR
