BEGIN:VCALENDAR
VERSION:2.0
CALSCALE:GREGORIAN
BEGIN:VEVENT
UID:69e9abbf9d174
X-MICROSOFT-CDO-BUSYSTATUS:FREE
DTSTAMP:
LOCATION:na Romance TV Polska
DESCRIPTION:Strażnik leśny\, Timo Roiss\, zostaje uderzony i zepchnięty ze skały. Jego partnerka i przełożona\, Lena Breuniger\, przyznaje\, że wcześniej doszło między nimi do kłótni. W kręgu podejrzanych jest jednak nie tylko ona\, ponieważ Roiss – ze względu na swój wybuchowy charakter – nie był lubiany przez turystów jako przewodnik wypraw górskich.
SUMMARY:Śmierć strażnika
DTSTART;TZID="(GMT+01.00) Amsterdam / Berlin / Bern / Rome / Stockholm / Vienna":20260430T180000
DTEND;TZID="(GMT+01.00) Amsterdam / Berlin / Bern / Rome / Stockholm / Vienna":20260430T190000
BEGIN:VALARM
TRIGGER:-PT60M
ACTION:DISPLAY
DESCRIPTION:Reminder
END:VALARM
END:VEVENT
END:VCALENDAR
