BEGIN:VCALENDAR
VERSION:2.0
CALSCALE:GREGORIAN
BEGIN:VEVENT
UID:69e9abee1b848
X-MICROSOFT-CDO-BUSYSTATUS:FREE
DTSTAMP:
LOCATION:na Romance TV Polska
DESCRIPTION:Lydia Seibert powinna być jak najszybciej operowana. Jednak pobyt w szpitalu jest w jej przypadku wykluczony\, ponieważ kobieta w otoczeniu obcych ludzi dostaje ataków paniki. Dopiero dzięki motocykliście\, Brunonowi Lichtowi\, udaje jej się pokonać strach. Po udanej operacji Martin pozwala Lydii towarzyszyć Brunonowi na firmowej imprezie. Lydia jest w siódmym niebie. Radość się kończy\, kiedy Bruno traci nagle przytomność.
SUMMARY:Presja - część 2
DTSTART;TZID="(GMT+01.00) Amsterdam / Berlin / Bern / Rome / Stockholm / Vienna":20260430T190000
DTEND;TZID="(GMT+01.00) Amsterdam / Berlin / Bern / Rome / Stockholm / Vienna":20260430T200000
BEGIN:VALARM
TRIGGER:-PT60M
ACTION:DISPLAY
DESCRIPTION:Reminder
END:VALARM
END:VEVENT
END:VCALENDAR
