BEGIN:VCALENDAR
VERSION:2.0
CALSCALE:GREGORIAN
BEGIN:VEVENT
UID:69e9aabfa3e98
X-MICROSOFT-CDO-BUSYSTATUS:FREE
DTSTAMP:
LOCATION:na Romance TV Polska
DESCRIPTION:Laura jest sędzią i nie może zrozumieć tego\, co jej się przydarzyło. Kiedy kolejny raz nakrywa swojego męża Petera na zdradzie\, przysięga sobie\, że w końcu złoży pozew o rozwód. Mimo\, że nie ma teraz ochoty na urlop\, zgodnie z planem wyjeżdża z rodzicami do Styrii. Spotyka tam Fabiana\, swoją wielką\, młodzieńczą miłość. W jej sercu panuje chaos\, ponieważ Peter nie ma zamiaru poddać się bez walki. Natomiast Fabian jest najwyraźniej szczęśliwy ze swoją małą rodziną.
SUMMARY:Lilly Schönauer: Na zawsze i jeden dzień
DTSTART;TZID="(GMT+01.00) Amsterdam / Berlin / Bern / Rome / Stockholm / Vienna":20260430T215500
DTEND;TZID="(GMT+01.00) Amsterdam / Berlin / Bern / Rome / Stockholm / Vienna":20260430T235000
BEGIN:VALARM
TRIGGER:-PT60M
ACTION:DISPLAY
DESCRIPTION:Reminder
END:VALARM
END:VEVENT
END:VCALENDAR
