BEGIN:VCALENDAR
VERSION:2.0
CALSCALE:GREGORIAN
BEGIN:VEVENT
UID:69eacf17283e3
X-MICROSOFT-CDO-BUSYSTATUS:FREE
DTSTAMP:
LOCATION:na Romance TV Polska
DESCRIPTION:Melisa chciałaby\, jak jej dziadek\, pracować w kopalni i przebiera się za młodego mężczyznę. Kiedy znajduje pracę w księstwie\, zostaje wplątana w rodzinną tragedię. Sophia\, następczyni tronu\, ma zostać wywieziona i sprzedana\, a tron ma objąć jej brat\, Berthold. Melisie udaje się uwolnić Sophię.
SUMMARY:Sprzedana księżniczka
DTSTART;TZID="(GMT+01.00) Amsterdam / Berlin / Bern / Rome / Stockholm / Vienna":20260501T100500
DTEND;TZID="(GMT+01.00) Amsterdam / Berlin / Bern / Rome / Stockholm / Vienna":20260501T112500
BEGIN:VALARM
TRIGGER:-PT60M
ACTION:DISPLAY
DESCRIPTION:Reminder
END:VALARM
END:VEVENT
END:VCALENDAR
