BEGIN:VCALENDAR
VERSION:2.0
CALSCALE:GREGORIAN
BEGIN:VEVENT
UID:69eacf6e7c0cf
X-MICROSOFT-CDO-BUSYSTATUS:FREE
DTSTAMP:
LOCATION:na Romance TV Polska
DESCRIPTION:W Kornwalii siedem obcych sobie osób szuka w grupie wsparcia wiary\, nadziei\, miłości... i czekolady. Rose nazywa czule tę grupę „Czekoladowym klubem”\, ponieważ wszyscy jego członkowie pomagają sobie słodyczami. Czy słodkie specjały i kreatywność uleczą ich zagubione dusze?
SUMMARY:Czekoladowy klub
DTSTART;TZID="(GMT+01.00) Amsterdam / Berlin / Bern / Rome / Stockholm / Vienna":20260501T215500
DTEND;TZID="(GMT+01.00) Amsterdam / Berlin / Bern / Rome / Stockholm / Vienna":20260501T235500
BEGIN:VALARM
TRIGGER:-PT60M
ACTION:DISPLAY
DESCRIPTION:Reminder
END:VALARM
END:VEVENT
END:VCALENDAR
