BEGIN:VCALENDAR
VERSION:2.0
CALSCALE:GREGORIAN
BEGIN:VEVENT
UID:69eacf22c1250
X-MICROSOFT-CDO-BUSYSTATUS:FREE
DTSTAMP:
LOCATION:na Romance TV Polska
DESCRIPTION:Vincent Braun i Karl Grünfeld idą razem za wspinaczkę\, która jednak raptownie się kończy. Karl traci chwyt\, zawisa na linie i uderza w skalne zbocze. Dr Martin Gruber\, rusza na pomoc ze swoim bratem i grupą ratowników górskich\, stwierdza potem w szpitalu\, że Karl miał szczęście w nieszczęściu. Martina bardziej martwi stan Vincenta\, którego od dłuższego czasu męczy podobno grypa będąca przyczyną zaburzeń krążenia. Po badaniach Vincent dowiaduje się od dr. Grubera\, że to nie grypa\, tylko wada zastawek serca. Konieczna jest operacja.
SUMMARY:Królewskie dzieci - część 1
DTSTART;TZID="(GMT+01.00) Amsterdam / Berlin / Bern / Rome / Stockholm / Vienna":20260501T235500
DTEND;TZID="(GMT+01.00) Amsterdam / Berlin / Bern / Rome / Stockholm / Vienna":20260502T005500
BEGIN:VALARM
TRIGGER:-PT60M
ACTION:DISPLAY
DESCRIPTION:Reminder
END:VALARM
END:VEVENT
END:VCALENDAR
