BEGIN:VCALENDAR
VERSION:2.0
CALSCALE:GREGORIAN
BEGIN:VEVENT
UID:69eacff35a680
X-MICROSOFT-CDO-BUSYSTATUS:FREE
DTSTAMP:
LOCATION:na Romance TV Polska
DESCRIPTION:Tym razem płyniemy z kapitanem Maxem Pargerem do Tajlandii. Na pokładzie statku marzeń jest także stażysta Oliver Sander\, którym opiekuje się Hanna Liebhold. Mając u swego boku Olivera zawsze kompetentna Hanna popełnia błędy.
SUMMARY:Statek marzeń - Phuket
DTSTART;TZID="(GMT+01.00) Amsterdam / Berlin / Bern / Rome / Stockholm / Vienna":20260502T005500
DTEND;TZID="(GMT+01.00) Amsterdam / Berlin / Bern / Rome / Stockholm / Vienna":20260502T025000
BEGIN:VALARM
TRIGGER:-PT60M
ACTION:DISPLAY
DESCRIPTION:Reminder
END:VALARM
END:VEVENT
END:VCALENDAR
