BEGIN:VCALENDAR
VERSION:2.0
CALSCALE:GREGORIAN
BEGIN:VEVENT
UID:69eb9051a4e0c
X-MICROSOFT-CDO-BUSYSTATUS:FREE
DTSTAMP:
LOCATION:auf Romance TV HD
DESCRIPTION:Die Zoologin Alex Reading kehrt nach vielen Jahren wieder nach Cornwall zurück. Hier soll sie die Leitung des ansässigen Tierparks übernehmen. Philip Burlington\, Alex' ehemaliger Verlobter und gegenwärtiger Eigentümer des Zoos\, hat allerdings einen ganz bestimmten Hintergedanken in dieser Sache: Er möchte Alex zurückgewinnen. Auch Alex' Mutter Meredith soll ihm dabei helfen. Alex soll nun also in die Fußstapfen von Dr. Shepard treten. Gleich am ersten Tag allerdings stellt dieser ihre Kompetenz als Tierärztin in Frage. Wie gut\, dass das Verschwinden einiger exotischer Tiere beide dazu zwingt\, an einem Strang zu ziehen. Und schon sehr bald ist da mehr\, als nur berufliche Nähe.
SUMMARY:Rosamunde Pilcher: Schlangen im Paradies
DTSTART;TZID="(GMT+01.00) Amsterdam / Berlin / Bern / Rome / Stockholm / Vienna":20260504T144000
DTEND;TZID="(GMT+01.00) Amsterdam / Berlin / Bern / Rome / Stockholm / Vienna":20260504T161500
BEGIN:VALARM
TRIGGER:-PT60M
ACTION:DISPLAY
DESCRIPTION:Reminder
END:VALARM
END:VEVENT
END:VCALENDAR
