BEGIN:VCALENDAR
VERSION:2.0
CALSCALE:GREGORIAN
BEGIN:VEVENT
UID:69eb0a6ad916d
X-MICROSOFT-CDO-BUSYSTATUS:FREE
DTSTAMP:
LOCATION:auf Romance TV HD
DESCRIPTION:Klassenausflug der Abendschule: In einer Jugendherberge kümmert sich Ralph um die Problemfälle des neuen Jahrgangs. Neben dem Lehrerdasein hat er mit seiner neuen Chefin ebenso zu kämpfen wie mit einem kauzigen Herbergsvater. Und dann taucht auch noch seine Mitbewohnerin Karin in der Jugendherberge auf und sorgt zusätzlich für Chaos.
SUMMARY:Extraklasse - On Tour
DTSTART;TZID="(GMT+01.00) Amsterdam / Berlin / Bern / Rome / Stockholm / Vienna":20260507T043000
DTEND;TZID="(GMT+01.00) Amsterdam / Berlin / Bern / Rome / Stockholm / Vienna":20260507T060500
BEGIN:VALARM
TRIGGER:-PT60M
ACTION:DISPLAY
DESCRIPTION:Reminder
END:VALARM
END:VEVENT
END:VCALENDAR
