BEGIN:VCALENDAR
VERSION:2.0
CALSCALE:GREGORIAN
BEGIN:VEVENT
UID:69eb0abc94f16
X-MICROSOFT-CDO-BUSYSTATUS:FREE
DTSTAMP:
LOCATION:auf Romance TV HD
DESCRIPTION:Milla\, die kleine Tochter der Fotografin Tilda\, erwacht aus einem Koma. Alles scheint gut\, doch erinnert sie sich nicht an die Scheidung ihrer Eltern oder die Trennung der Großeltern. Milla soll langsam in die Realität zurückfinden. Deshalb sollen Oma Nora und Opa Johan wieder ein Paar sein\, auch Tildas Ex Robbie soll zu ihr zurück. Alle reißen sich für Milla zusammen\, doch dann taucht der charmante Lasse mit seinem Adoptivsohn Sibu auf. Lasse ist der neue Landarzt im Ort\, der von Johan das Haus der Familie gekauft hat...
SUMMARY:Inga Lindström: Familienfest in Sommerby
DTSTART;TZID="(GMT+01.00) Amsterdam / Berlin / Bern / Rome / Stockholm / Vienna":20260515T131500
DTEND;TZID="(GMT+01.00) Amsterdam / Berlin / Bern / Rome / Stockholm / Vienna":20260515T145000
BEGIN:VALARM
TRIGGER:-PT60M
ACTION:DISPLAY
DESCRIPTION:Reminder
END:VALARM
END:VEVENT
END:VCALENDAR
