BEGIN:VCALENDAR
VERSION:2.0
CALSCALE:GREGORIAN
BEGIN:VEVENT
UID:69eb0d2031992
X-MICROSOFT-CDO-BUSYSTATUS:FREE
DTSTAMP:
LOCATION:auf Romance TV HD
DESCRIPTION:Anwältin Ella Wolf und ihr Kindheitsfreund Biobauer Florian Wagner kommen sich auf einer Hochzeitsfeier sehr nah. Um ihre Karriere voranzubringen\, muss Ella ausgerechnet ein Bauprojekt durchsetzen\, gegen das Florian als Anführer einer Bürgerinitiative vorgeht. Zudem ist sie auch noch ungewollt schwanger von Florian.
SUMMARY:Schon tausendmal berührt
DTSTART;TZID="(GMT+01.00) Amsterdam / Berlin / Bern / Rome / Stockholm / Vienna":20260606T170500
DTEND;TZID="(GMT+01.00) Amsterdam / Berlin / Bern / Rome / Stockholm / Vienna":20260606T184000
BEGIN:VALARM
TRIGGER:-PT60M
ACTION:DISPLAY
DESCRIPTION:Reminder
END:VALARM
END:VEVENT
END:VCALENDAR
