BEGIN:VCALENDAR
VERSION:2.0
CALSCALE:GREGORIAN
BEGIN:VEVENT
UID:69eb66a4a3885
X-MICROSOFT-CDO-BUSYSTATUS:FREE
DTSTAMP:
LOCATION:auf Romance TV HD
DESCRIPTION:Julia ist verlobt und wird schon bald heiraten. Kurz vor der Hochzeit steht allerdings ihr Ex-Freund auf der Matte. Dem noch nicht genug - berufliches Chaos steht ebenfalls ins Haus. Julia soll die familieneigene Gin-Destille weiterführen. Zu allem Überfluss erwischt sie ihren Verlobten dann auch noch in einer verfänglichen Situation. In diesem Chaos der Gefühle die Nerven zu behalten\, ist leichter gesagt als getan...
SUMMARY:Rosamunde Pilcher: Verlobt\, verliebt\, verwirrt
DTSTART;TZID="(GMT+01.00) Amsterdam / Berlin / Bern / Rome / Stockholm / Vienna":20260614T214500
DTEND;TZID="(GMT+01.00) Amsterdam / Berlin / Bern / Rome / Stockholm / Vienna":20260614T232000
BEGIN:VALARM
TRIGGER:-PT60M
ACTION:DISPLAY
DESCRIPTION:Reminder
END:VALARM
END:VEVENT
END:VCALENDAR
