BEGIN:VCALENDAR
VERSION:2.0
CALSCALE:GREGORIAN
BEGIN:VEVENT
UID:69ebfda7589bc
X-MICROSOFT-CDO-BUSYSTATUS:FREE
DTSTAMP:
LOCATION:na Romance TV Polska
DESCRIPTION:Audrey McCulloh wciąż jest jeszcze w żałobie. Rok temu zmarł jej syn. Chad\, lekarz\, który opiekował się nim podczas choroby\, postanawia pokazać Audrey akta choroby wówczas dziewiętnastoletniego chłopca\, Raya. Okazuje się\, że serce jej syna uratowało mu życie. Dowiedziawszy się o tym\, Audrey postanawia poznać uratowanego młodego człowieka. Kiedy go jednak spotyka\, okazuje się\, że chłopak nie wykorzystuje danej mu drugiej szansy tak\, jak powinien. Audrey pragnie mu pomóc i nie zdradza ani jemu\, ani jego rodzicom\, kim naprawdę jest\, zaś oni są przekonani\, że kobieta jest jego nową terapeutką.
SUMMARY:Katie Fforde: Sercowa sprawa
DTSTART;TZID="(GMT+01.00) Amsterdam / Berlin / Bern / Rome / Stockholm / Vienna":20260502T120500
DTEND;TZID="(GMT+01.00) Amsterdam / Berlin / Bern / Rome / Stockholm / Vienna":20260502T140000
BEGIN:VALARM
TRIGGER:-PT60M
ACTION:DISPLAY
DESCRIPTION:Reminder
END:VALARM
END:VEVENT
END:VCALENDAR
