BEGIN:VCALENDAR
VERSION:2.0
CALSCALE:GREGORIAN
BEGIN:VEVENT
UID:69ebfec4bcab5
X-MICROSOFT-CDO-BUSYSTATUS:FREE
DTSTAMP:
LOCATION:na Romance TV Polska
DESCRIPTION:Młoda Szkotka\, Christabel\, chciałaby poślubić swojego amerykańskiego chłopaka. Podczas przerwy międzysemestralnej\, którą spędza w rodzinnych stronach\, spotyka swoją młodzieńczą miłość\, Sama\, który rozpętuje w jej sercu burzę uczuć. Christabel musi wybrać swojego przyszłego męża.
SUMMARY:Rosamunde Pilcher: Godziny decyzji
DTSTART;TZID="(GMT+01.00) Amsterdam / Berlin / Bern / Rome / Stockholm / Vienna":20260502T180500
DTEND;TZID="(GMT+01.00) Amsterdam / Berlin / Bern / Rome / Stockholm / Vienna":20260502T200000
BEGIN:VALARM
TRIGGER:-PT60M
ACTION:DISPLAY
DESCRIPTION:Reminder
END:VALARM
END:VEVENT
END:VCALENDAR
