BEGIN:VCALENDAR
VERSION:2.0
CALSCALE:GREGORIAN
BEGIN:VEVENT
UID:69ebfd63e461d
X-MICROSOFT-CDO-BUSYSTATUS:FREE
DTSTAMP:
LOCATION:na Romance TV Polska
DESCRIPTION:Sirę wzywa Alan Hillgarth\, szef brytyjskich tajnych służb w Hiszpanii. Hilgarth wyjaśnia jej kolejne zadanie. Sira ma obserwować życie towarzyskie Niemców\, a zrobi to najskuteczniej poprzez ich żony i partnerki. Sira otrzymuje od Hilgartha nową tożsamość.
SUMMARY:Fantomy przeszłości
DTSTART;TZID="(GMT+01.00) Amsterdam / Berlin / Bern / Rome / Stockholm / Vienna":20260502T215500
DTEND;TZID="(GMT+01.00) Amsterdam / Berlin / Bern / Rome / Stockholm / Vienna":20260502T225500
BEGIN:VALARM
TRIGGER:-PT60M
ACTION:DISPLAY
DESCRIPTION:Reminder
END:VALARM
END:VEVENT
END:VCALENDAR
