BEGIN:VCALENDAR
VERSION:2.0
CALSCALE:GREGORIAN
BEGIN:VEVENT
UID:69ebfd8d0257d
X-MICROSOFT-CDO-BUSYSTATUS:FREE
DTSTAMP:
LOCATION:na Romance TV Polska
DESCRIPTION:Niemiecka emerytka\, Eleonor Seifert\, odnalazła na Mazurach swoją siostrę\, Agnieszkę Witczak\, która znikła z jej życia podczas II Wojny Światowej. Jednak upragnione spotkanie kończy się kłótnią. Następnego dnia zostaje znalezione ciało Agnieszki. To było zabójstwo. Techniczka kryminalistyki\, dr Viktoria Wex\, przesłuchuje najpierw jej krewnych.
SUMMARY:Kryminalne zagadki Mazur: Zaginiona córka
DTSTART;TZID="(GMT+01.00) Amsterdam / Berlin / Bern / Rome / Stockholm / Vienna":20260503T015000
DTEND;TZID="(GMT+01.00) Amsterdam / Berlin / Bern / Rome / Stockholm / Vienna":20260503T034500
BEGIN:VALARM
TRIGGER:-PT60M
ACTION:DISPLAY
DESCRIPTION:Reminder
END:VALARM
END:VEVENT
END:VCALENDAR
