BEGIN:VCALENDAR
VERSION:2.0
CALSCALE:GREGORIAN
BEGIN:VEVENT
UID:69ebfd35cff32
X-MICROSOFT-CDO-BUSYSTATUS:FREE
DTSTAMP:
LOCATION:na Romance TV Polska
DESCRIPTION:Po rozstaniu z mężem Martinem\, Bella wraz z córką Leną zamieszkała w berlińskiej dzielnicy Kreuzberger Kiez. Na balu maturalnym Leny\, matka\, ojciec i córka sprawiają wrażenie doskonale funkcjonującej rodziny. Kilka osób myśli nawet\, że Bella i Martin nadal są z sobą związani. Tymczasem Martin zdradził żonę na przyjęciu w ich własnym domu. Kiedy Lena oznajmia matce\, że po maturze zamierza wyjechać zagranicę\, Bella jest zaskoczona. Powoli zaprzyjaźnia się jednakże z myślą\, że Lena jest już przecież dorosła. Planuje odwiedzić córkę w Australii. Zastanawia się nawet\, czy nie wyjechać razem z córką do Down Ier. Ale Lena ma też coś do powiedzenia…
SUMMARY:Bella Australia
DTSTART;TZID="(GMT+01.00) Amsterdam / Berlin / Bern / Rome / Stockholm / Vienna":20260503T054500
DTEND;TZID="(GMT+01.00) Amsterdam / Berlin / Bern / Rome / Stockholm / Vienna":20260503T074000
BEGIN:VALARM
TRIGGER:-PT60M
ACTION:DISPLAY
DESCRIPTION:Reminder
END:VALARM
END:VEVENT
END:VCALENDAR
