BEGIN:VCALENDAR
VERSION:2.0
CALSCALE:GREGORIAN
BEGIN:VEVENT
UID:69ed40cd88dcf
X-MICROSOFT-CDO-BUSYSTATUS:FREE
DTSTAMP:
LOCATION:auf Heimatkanal
DESCRIPTION:Das ist ein echter Talk-Klassiker. Alexander-Klaus Stecher begrüßte im Sommer 2012 den Publikumsliebling Hansi Kraus im Studio und führte mit ihm ein ausführliches Gespräch über seine Karriere\, die Liebe und das Leben. In neuer Aufbereitung und mit Ausschnitten aus den herrlichen 'Lausbuben'-Filmen erleben wir eine außergewöhnliche Interviewsendung.
SUMMARY:Alles Liebe V.I.P.: Hansi Kraus
DTSTART;TZID="(GMT+01.00) Amsterdam / Berlin / Bern / Rome / Stockholm / Vienna":20260525T124000
DTEND;TZID="(GMT+01.00) Amsterdam / Berlin / Bern / Rome / Stockholm / Vienna":20260525T131500
BEGIN:VALARM
TRIGGER:-PT60M
ACTION:DISPLAY
DESCRIPTION:Reminder
END:VALARM
END:VEVENT
END:VCALENDAR
