BEGIN:VCALENDAR
VERSION:2.0
CALSCALE:GREGORIAN
BEGIN:VEVENT
UID:69ed569e63556
X-MICROSOFT-CDO-BUSYSTATUS:FREE
DTSTAMP:
LOCATION:auf Heimatkanal
DESCRIPTION:Bewaffneter Überfall auf eine Bankfiliale\, zwei maskierte Burschen können unerkannt entkommen. Die Beute sind 30 000 DM. Inspektor Wanninger entlarvt die Täter\, indem er unbeirrbar einer Spur folgt\, die sich buchstäblich in Luft auflöst.
SUMMARY:Es liegt in der Luft
DTSTART;TZID="(GMT+01.00) Amsterdam / Berlin / Bern / Rome / Stockholm / Vienna":20260609T112500
DTEND;TZID="(GMT+01.00) Amsterdam / Berlin / Bern / Rome / Stockholm / Vienna":20260609T120000
BEGIN:VALARM
TRIGGER:-PT60M
ACTION:DISPLAY
DESCRIPTION:Reminder
END:VALARM
END:VEVENT
END:VCALENDAR
