BEGIN:VCALENDAR
VERSION:2.0
CALSCALE:GREGORIAN
BEGIN:VEVENT
UID:69ed561803b51
X-MICROSOFT-CDO-BUSYSTATUS:FREE
DTSTAMP:
LOCATION:auf Heimatkanal
DESCRIPTION:Die merkwürdigen Zufälle häufen sich\, die das Leben Gustl Duttenhöfers\, eines erfolgreichen Skispringers\, bedrohen. Wanninger nutzt seinen Winterurlaub\, um der Sache auf den Grund zu gehen und einen heimtückischen Attentäter zu verhaften.
SUMMARY:Der Winterurlaub
DTSTART;TZID="(GMT+01.00) Amsterdam / Berlin / Bern / Rome / Stockholm / Vienna":20260611T113000
DTEND;TZID="(GMT+01.00) Amsterdam / Berlin / Bern / Rome / Stockholm / Vienna":20260611T120000
BEGIN:VALARM
TRIGGER:-PT60M
ACTION:DISPLAY
DESCRIPTION:Reminder
END:VALARM
END:VEVENT
END:VCALENDAR
