BEGIN:VCALENDAR
VERSION:2.0
CALSCALE:GREGORIAN
BEGIN:VEVENT
UID:69ed56b9dbe7b
X-MICROSOFT-CDO-BUSYSTATUS:FREE
DTSTAMP:
LOCATION:auf Heimatkanal
DESCRIPTION:Die Frau des Modefotografen Bertram ist tot – vergiftet! Mord oder Selbstmord? – das ist hier die Frage\, auf die Kriminalinspektor Wanninger eine Antwort sucht. Beide Theorien klingen ganz plausibel\, bis Wanninger den Kanarienvogel entdeckt\, der alle Zweifel beseitigt.
SUMMARY:Der Kanarienvogel
DTSTART;TZID="(GMT+01.00) Amsterdam / Berlin / Bern / Rome / Stockholm / Vienna":20260611T185500
DTEND;TZID="(GMT+01.00) Amsterdam / Berlin / Bern / Rome / Stockholm / Vienna":20260611T192500
BEGIN:VALARM
TRIGGER:-PT60M
ACTION:DISPLAY
DESCRIPTION:Reminder
END:VALARM
END:VEVENT
END:VCALENDAR
