BEGIN:VCALENDAR
VERSION:2.0
CALSCALE:GREGORIAN
BEGIN:VEVENT
UID:69ed56ba61de1
X-MICROSOFT-CDO-BUSYSTATUS:FREE
DTSTAMP:
LOCATION:auf Heimatkanal
DESCRIPTION:Ein Schwerverbrecher\, der wegen seines mädchenhaften Aussehens in Gangsterkreisen nur „Schneewittchen“ genannt wird\, ist aus dem Zuchthaus ausgebrochen. Kriminaldirektor Mitterer weiß aus sicherer Quelle\, dass der Ganove alles daransetzen wird\, Wanninger\, der ihn hinter schwedische Gardinen gebracht hat\, umzulegen. So schickt er seinen Inspektor für einige Zeit fort. Obwohl Wanninger weiß\, wie gefährlich der Bursche ist\, lockt er „Schneewittchen“ in seinen Urlaubsort. Und beinahe wäre er selbst auf eine Finte des Verbrechers hereingefallen.
SUMMARY:Eine Spur für "Schneewittchen"
DTSTART;TZID="(GMT+01.00) Amsterdam / Berlin / Bern / Rome / Stockholm / Vienna":20260613T000000
DTEND;TZID="(GMT+01.00) Amsterdam / Berlin / Bern / Rome / Stockholm / Vienna":20260613T003000
BEGIN:VALARM
TRIGGER:-PT60M
ACTION:DISPLAY
DESCRIPTION:Reminder
END:VALARM
END:VEVENT
END:VCALENDAR
