BEGIN:VCALENDAR
VERSION:2.0
CALSCALE:GREGORIAN
BEGIN:VEVENT
UID:69eca9da3a1bc
X-MICROSOFT-CDO-BUSYSTATUS:FREE
DTSTAMP:
LOCATION:auf Heimatkanal
DESCRIPTION:Der kleine Florian wünscht sich nichts sehnlicher\, als dass sein verwitweter Papa eine neue Frau findet. Buchhändlerin Gabriele scheint die richtige Kandidatin zu sein. Nun gilt es nur noch\, seinen nichtsahnenden Vater mit der hübschen jungen Dame bekannt zu machen. Mitten ins Herz trifft diese süße Kuppelmaßnahme.
SUMMARY:An der Donau\, wenn der Wein blüht
DTSTART;TZID="(GMT+01.00) Amsterdam / Berlin / Bern / Rome / Stockholm / Vienna":20260615T151500
DTEND;TZID="(GMT+01.00) Amsterdam / Berlin / Bern / Rome / Stockholm / Vienna":20260615T163500
BEGIN:VALARM
TRIGGER:-PT60M
ACTION:DISPLAY
DESCRIPTION:Reminder
END:VALARM
END:VEVENT
END:VCALENDAR
