BEGIN:VCALENDAR
VERSION:2.0
CALSCALE:GREGORIAN
BEGIN:VEVENT
UID:69ed569e62aca
X-MICROSOFT-CDO-BUSYSTATUS:FREE
DTSTAMP:
LOCATION:auf Heimatkanal
DESCRIPTION:Der Fabrikant Rofeld ist in seiner Villa erschlagen\, Frau Rofelds Schmuck ist geraubt worden. Raubmord\, stellt die Polizei fest und hat auch schon den mutmaßlichen Täter\, als unerwartet der geraubte Schmuck wieder auftaucht - er ist angeblich bei Baggerarbeiten aus der Isar gefischt worden. Wer aber raubt\, um die Beute dann wegzuwerfen\, fragt sich Inspektor Wanninger? Er nimmt den Schmuck an sich\, aber anstatt ihn der Witwe zurückzubringen\, inszeniert er mit Hilfe dieses Requisits eine Szene\, die den erwarteten Schlusseffekt hat und den Täter überführt.
SUMMARY:Rivalitäten
DTSTART;TZID="(GMT+01.00) Amsterdam / Berlin / Bern / Rome / Stockholm / Vienna":20260615T185500
DTEND;TZID="(GMT+01.00) Amsterdam / Berlin / Bern / Rome / Stockholm / Vienna":20260615T192500
BEGIN:VALARM
TRIGGER:-PT60M
ACTION:DISPLAY
DESCRIPTION:Reminder
END:VALARM
END:VEVENT
END:VCALENDAR
