BEGIN:VCALENDAR
VERSION:2.0
CALSCALE:GREGORIAN
BEGIN:VEVENT
UID:69eca9820fcb1
X-MICROSOFT-CDO-BUSYSTATUS:FREE
DTSTAMP:
LOCATION:auf Heimatkanal
DESCRIPTION:Winzerin Elisabeth hat Schulden und ihren Mann verloren. Dem Gutsverwalter kommt die Idee\, sie mit dem wohlhabenden Richard von Langenlois zu verkuppeln. Der aber hat keine Lust und schickt den armen Lehrer Jörg ins Rennen. Bevor der Rollentausch auffliegt\, hat Amors Pfeil die beiden Turteltäubchen bereits erwischt.
SUMMARY:Die Winzerin von Langenlois
DTSTART;TZID="(GMT+01.00) Amsterdam / Berlin / Bern / Rome / Stockholm / Vienna":20260616T133500
DTEND;TZID="(GMT+01.00) Amsterdam / Berlin / Bern / Rome / Stockholm / Vienna":20260616T150500
BEGIN:VALARM
TRIGGER:-PT60M
ACTION:DISPLAY
DESCRIPTION:Reminder
END:VALARM
END:VEVENT
END:VCALENDAR
