BEGIN:VCALENDAR
VERSION:2.0
CALSCALE:GREGORIAN
BEGIN:VEVENT
UID:69ed417eccea9
X-MICROSOFT-CDO-BUSYSTATUS:FREE
DTSTAMP:
LOCATION:auf Heimatkanal
DESCRIPTION:Die Strohwitwe Traudl geht mit Karls ehemaligem Chef\, Amtsmann Grüner\, auf das Sommerfest der Münchner Polizei. Dort lernt sie den jungen Beamten Tussin kennen und schätzen. Doch Tussin hat anscheinend homosexuelle Neigungen und ist deswegen in Gefahr.
SUMMARY:Bartholomäusnacht (1934)
DTSTART;TZID="(GMT+01.00) Amsterdam / Berlin / Bern / Rome / Stockholm / Vienna":20260616T224500
DTEND;TZID="(GMT+01.00) Amsterdam / Berlin / Bern / Rome / Stockholm / Vienna":20260616T235000
BEGIN:VALARM
TRIGGER:-PT60M
ACTION:DISPLAY
DESCRIPTION:Reminder
END:VALARM
END:VEVENT
END:VCALENDAR
