BEGIN:VCALENDAR
VERSION:2.0
CALSCALE:GREGORIAN
BEGIN:VEVENT
UID:69ed566b1b332
X-MICROSOFT-CDO-BUSYSTATUS:FREE
DTSTAMP:
LOCATION:auf Heimatkanal
DESCRIPTION:Mit ausgeschaltetem Scheinwerfer raste der Sportwagen davon\; ein Radfahrer bleibt schwer verletzt liegen. Die Zeugenaussaugen sind dürftig. Keine leichte Aufgabe\, den Fahrerflüchtigen zu überführen\, doch Inspektor Wanninger tarnt sich als Playboy und stellt ihm eine raffinierte Falle.
SUMMARY:Kavaliere
DTSTART;TZID="(GMT+01.00) Amsterdam / Berlin / Bern / Rome / Stockholm / Vienna":20260617T003500
DTEND;TZID="(GMT+01.00) Amsterdam / Berlin / Bern / Rome / Stockholm / Vienna":20260617T010000
BEGIN:VALARM
TRIGGER:-PT60M
ACTION:DISPLAY
DESCRIPTION:Reminder
END:VALARM
END:VEVENT
END:VCALENDAR
