BEGIN:VCALENDAR
VERSION:2.0
CALSCALE:GREGORIAN
BEGIN:VEVENT
UID:69ed56562273e
X-MICROSOFT-CDO-BUSYSTATUS:FREE
DTSTAMP:
LOCATION:auf Heimatkanal
DESCRIPTION:Immer wieder werden in einem feudalen Reitclub am Tegernsee wertvolle Pferde gestohlen. Die Club-Mitglieder stehen vor einem Rätsel\, die Polizei ebenfalls. Da Wanninger sowieso einige Tage Erholung benötigt\, lernt er am Tegernsee reiten\, was von den Reitersleuten mitleidig belächelt wird. Als Wanninger aber mit Hilfe der Stute Flora\, die von einem fremden Händler als wertvolles Pferd angeboten wird\, den Dieb überführt und er damit mehr „Pferdeverstand“ beweist als die alten Reiter\, lächelt niemand mehr.
SUMMARY:Die Stute Flora
DTSTART;TZID="(GMT+01.00) Amsterdam / Berlin / Bern / Rome / Stockholm / Vienna":20260617T112500
DTEND;TZID="(GMT+01.00) Amsterdam / Berlin / Bern / Rome / Stockholm / Vienna":20260617T120000
BEGIN:VALARM
TRIGGER:-PT60M
ACTION:DISPLAY
DESCRIPTION:Reminder
END:VALARM
END:VEVENT
END:VCALENDAR
