BEGIN:VCALENDAR
VERSION:2.0
CALSCALE:GREGORIAN
BEGIN:VEVENT
UID:69ed400027972
X-MICROSOFT-CDO-BUSYSTATUS:FREE
DTSTAMP:
LOCATION:auf Heimatkanal
DESCRIPTION:Es soll eine schöne Angeltour werden: Jutta und Dr. Uli Teschner fahren mit Fischer Opdehn und Schuldirektor Kranz aufs Meer. Doch als Opdehn das Ruder kurz an Kranz übergibt\, um Juttas Fisch von der Angel zu machen\, rammt der Kutter das Boot von Frau Schmidt und Frau Schaller. Opdehn versteht nicht\, warum Kranz entgegen seinen Anweisungen nach rechts statt nach links gesteuert hat. Dr. Teschner vermutet eine medizinische Ursache.
SUMMARY:Mann über Bord
DTSTART;TZID="(GMT+01.00) Amsterdam / Berlin / Bern / Rome / Stockholm / Vienna":20260617T180500
DTEND;TZID="(GMT+01.00) Amsterdam / Berlin / Bern / Rome / Stockholm / Vienna":20260617T185500
BEGIN:VALARM
TRIGGER:-PT60M
ACTION:DISPLAY
DESCRIPTION:Reminder
END:VALARM
END:VEVENT
END:VCALENDAR
