BEGIN:VCALENDAR
VERSION:2.0
CALSCALE:GREGORIAN
BEGIN:VEVENT
UID:69ed562f2e9d6
X-MICROSOFT-CDO-BUSYSTATUS:FREE
DTSTAMP:
LOCATION:auf Heimatkanal
DESCRIPTION:Bankdirektor Martin ist vom Schicksal schwer geschlagen: Seine Frau ist geisteskrank\, hört geheimnisvolle Stimmen\, fühlt sich verfolgt. Eine etwas unheimliche Geschichte – meint auch Inspektor Wanninger und besucht die Frau\, besucht auch den Modellflug-Club\, dem ihr Mann angehört und schwindelt dem Armen sogar vor\, seine Frau habe Selbstmord begangen. Die Nachricht veranlasst den vermeintlichen Witwer zu einer Handlung\, die zeigt\, dass das Jenseits gar nicht so unheimlich und das Diesseits heimtückischer\, ist als man denkt – und genau darauf hat Wanninger gewartet. Dass er nebenbei noch eine Reihe von Friedhofsdiebstählen aufklärt\, passt natürlich zu ihm und zu dieser makabren Geschichte.
SUMMARY:Stimmen aus dem Jenseits
DTSTART;TZID="(GMT+01.00) Amsterdam / Berlin / Bern / Rome / Stockholm / Vienna":20260618T112500
DTEND;TZID="(GMT+01.00) Amsterdam / Berlin / Bern / Rome / Stockholm / Vienna":20260618T120000
BEGIN:VALARM
TRIGGER:-PT60M
ACTION:DISPLAY
DESCRIPTION:Reminder
END:VALARM
END:VEVENT
END:VCALENDAR
