BEGIN:VCALENDAR
VERSION:2.0
CALSCALE:GREGORIAN
BEGIN:VEVENT
UID:69ed3fae849ba
X-MICROSOFT-CDO-BUSYSTATUS:FREE
DTSTAMP:
LOCATION:auf Heimatkanal
DESCRIPTION:Jutta ist überglücklich. Endlich darf sie ein Trabrennen mit einem Favoritenpferd bestreiten. Dr. Teschner\, Dr. Kasperski und Floriane sind begeistert\, als sie als Siegerin durchs Ziel fährt. Doch im Siegestaumel stürzt Jutta aus dem Sulky\, nur um Millimeter verfehlt der Huf des Pferdes ihren Kopf. Sie hat einen schweren Schock.
SUMMARY:Millimetersache
DTSTART;TZID="(GMT+01.00) Amsterdam / Berlin / Bern / Rome / Stockholm / Vienna":20260618T180500
DTEND;TZID="(GMT+01.00) Amsterdam / Berlin / Bern / Rome / Stockholm / Vienna":20260618T185500
BEGIN:VALARM
TRIGGER:-PT60M
ACTION:DISPLAY
DESCRIPTION:Reminder
END:VALARM
END:VEVENT
END:VCALENDAR
