BEGIN:VCALENDAR
VERSION:2.0
CALSCALE:GREGORIAN
BEGIN:VEVENT
UID:69ed567ab3f19
X-MICROSOFT-CDO-BUSYSTATUS:FREE
DTSTAMP:
LOCATION:auf Heimatkanal
DESCRIPTION:Während einer Party im Hause des reichen Geschäftsmanns Redl: Die Polizei erscheint\, weil eine der Töchter in ihrem Schlafzimmer überfallen und ihres wertvollen Schmuckes beraubt worden ist. Steiner stellt sofort die notwendigen Ermittlungen und Verhöre an\, während Wanninger mit Redl und seinen Gästen plaudert. Er erzählt allen\, was für ein großartiger Kriminalist sein Vorgesetzter\, Oberinspektor Steiner\, sei\, und treibt dadurch den Täter zu einer Panikhandlung.
SUMMARY:Die Familienfeier
DTSTART;TZID="(GMT+01.00) Amsterdam / Berlin / Bern / Rome / Stockholm / Vienna":20260618T185500
DTEND;TZID="(GMT+01.00) Amsterdam / Berlin / Bern / Rome / Stockholm / Vienna":20260618T192500
BEGIN:VALARM
TRIGGER:-PT60M
ACTION:DISPLAY
DESCRIPTION:Reminder
END:VALARM
END:VEVENT
END:VCALENDAR
