BEGIN:VCALENDAR
VERSION:2.0
CALSCALE:GREGORIAN
BEGIN:VEVENT
UID:69ed354e5be6e
X-MICROSOFT-CDO-BUSYSTATUS:FREE
DTSTAMP:
LOCATION:auf Romance TV HD
DESCRIPTION:Christian Frankenthals Vater scheint sich in eine Heiratsschwindlerin verliebt zu haben. Da Christian seinen Vater Alois nicht zur Vernunft bringen kann\, sucht er Hilfe bei Katja Baumann. Doch auch Katja und Pfarrer Sonnleitner schaffen es nicht\, Alois von der Wahrheit zu überzeugen.
SUMMARY:Frühling - Blick ins Morgen
DTSTART;TZID="(GMT+01.00) Amsterdam / Berlin / Bern / Rome / Stockholm / Vienna":20260427T201500
DTEND;TZID="(GMT+01.00) Amsterdam / Berlin / Bern / Rome / Stockholm / Vienna":20260427T215000
BEGIN:VALARM
TRIGGER:-PT60M
ACTION:DISPLAY
DESCRIPTION:Reminder
END:VALARM
END:VEVENT
END:VCALENDAR
