BEGIN:VCALENDAR
VERSION:2.0
CALSCALE:GREGORIAN
BEGIN:VEVENT
UID:69ed347f24a0a
X-MICROSOFT-CDO-BUSYSTATUS:FREE
DTSTAMP:
LOCATION:auf Romance TV HD
DESCRIPTION:Nach einem Autounfall wird Katja ins Krankenhaus gebracht. Die Bewohner von Frühling sorgen sich um die Gesundheit von Katja. Der Fahrer\, der für das Unglück verantwortlich ist\, nahm Medikamente ein\, die die Fahrtüchtigkeit beeinträchtigen.
SUMMARY:Frühling - Mit dem Feind im Bett
DTSTART;TZID="(GMT+01.00) Amsterdam / Berlin / Bern / Rome / Stockholm / Vienna":20260504T201500
DTEND;TZID="(GMT+01.00) Amsterdam / Berlin / Bern / Rome / Stockholm / Vienna":20260504T215000
BEGIN:VALARM
TRIGGER:-PT60M
ACTION:DISPLAY
DESCRIPTION:Reminder
END:VALARM
END:VEVENT
END:VCALENDAR
