BEGIN:VCALENDAR
VERSION:2.0
CALSCALE:GREGORIAN
BEGIN:VEVENT
UID:69ed356262392
X-MICROSOFT-CDO-BUSYSTATUS:FREE
DTSTAMP:
LOCATION:auf Romance TV HD
DESCRIPTION:Kaum ist Katja wieder arbeitsfähig\, steht sie schon vor der nächsten Herausforderung. Sie wird beauftragt\, sich um die neue Frau ihres Exfreundes zu kümmern. Diese soll sich wegen ihrer Schwangerschaft schonen.
SUMMARY:Frühling - Holla\, die Waldfee
DTSTART;TZID="(GMT+01.00) Amsterdam / Berlin / Bern / Rome / Stockholm / Vienna":20260511T201500
DTEND;TZID="(GMT+01.00) Amsterdam / Berlin / Bern / Rome / Stockholm / Vienna":20260511T215000
BEGIN:VALARM
TRIGGER:-PT60M
ACTION:DISPLAY
DESCRIPTION:Reminder
END:VALARM
END:VEVENT
END:VCALENDAR
