BEGIN:VCALENDAR
VERSION:2.0
CALSCALE:GREGORIAN
BEGIN:VEVENT
UID:69ed34bc44a83
X-MICROSOFT-CDO-BUSYSTATUS:FREE
DTSTAMP:
LOCATION:auf Romance TV HD
DESCRIPTION:Wegen eines Jagdunfalls liegt ein Familienvater im Koma. Auf dem Hof der Familie passt Katja auf die Tiere und die jugendlichen Söhne auf. Pfarrer Sonnleitner stellt aufgrund seiner zunehmenden Vergesslichkeit sein Gedächtnis in Frage.
SUMMARY:Frühling - Das Versteck
DTSTART;TZID="(GMT+01.00) Amsterdam / Berlin / Bern / Rome / Stockholm / Vienna":20260518T201500
DTEND;TZID="(GMT+01.00) Amsterdam / Berlin / Bern / Rome / Stockholm / Vienna":20260518T215000
BEGIN:VALARM
TRIGGER:-PT60M
ACTION:DISPLAY
DESCRIPTION:Reminder
END:VALARM
END:VEVENT
END:VCALENDAR
