BEGIN:VCALENDAR
VERSION:2.0
CALSCALE:GREGORIAN
BEGIN:VEVENT
UID:69eca93b88fd7
X-MICROSOFT-CDO-BUSYSTATUS:FREE
DTSTAMP:
LOCATION:auf Romance TV HD
DESCRIPTION:Lilly erbt das Haus ihres Opas nicht alleine\, denn auch ihr früherer Bekannter Sylvester bekommt einen Anteil. Alte Konflikte aus Jugendzeiten kommen wieder hoch. Lilly und Sylvester müssen sich durch das Erbe ihrer gemeinsamen Vergangenheit stellen.
SUMMARY:Inga Lindström: Spinnefeind
DTSTART;TZID="(GMT+01.00) Amsterdam / Berlin / Bern / Rome / Stockholm / Vienna":20260611T201500
DTEND;TZID="(GMT+01.00) Amsterdam / Berlin / Bern / Rome / Stockholm / Vienna":20260611T214500
BEGIN:VALARM
TRIGGER:-PT60M
ACTION:DISPLAY
DESCRIPTION:Reminder
END:VALARM
END:VEVENT
END:VCALENDAR
