BEGIN:VCALENDAR
VERSION:2.0
CALSCALE:GREGORIAN
BEGIN:VEVENT
UID:69ed350f9e98f
X-MICROSOFT-CDO-BUSYSTATUS:FREE
DTSTAMP:
LOCATION:auf Romance TV HD
DESCRIPTION:Katja betreut die 11-jährige Sarah. Sarahs Mutter steht ihrem kleinen Bruder im Krankenhaus bei\, da er an Mukoviszidose leidet. Katja bemerkt\, dass Sarah in der Schule gemobbt wird.
SUMMARY:Frühling - Wenn du nicht still bist\, dann...
DTSTART;TZID="(GMT+01.00) Amsterdam / Berlin / Bern / Rome / Stockholm / Vienna":20260615T201500
DTEND;TZID="(GMT+01.00) Amsterdam / Berlin / Bern / Rome / Stockholm / Vienna":20260615T214500
BEGIN:VALARM
TRIGGER:-PT60M
ACTION:DISPLAY
DESCRIPTION:Reminder
END:VALARM
END:VEVENT
END:VCALENDAR
