BEGIN:VCALENDAR
VERSION:2.0
CALSCALE:GREGORIAN
BEGIN:VEVENT
UID:69eca93c0e720
X-MICROSOFT-CDO-BUSYSTATUS:FREE
DTSTAMP:
LOCATION:auf Romance TV HD
DESCRIPTION:Springreiterin Linn möchte mit ihrem Pferd Rasmus unbedingt zu dem elitären Gestüt ihres Freundes Alex gehören. Plötzlich passiert ein Unfall\, der ihr Pferd verschreckt. Für die Genesung sucht Linn Pferdeflüsterin Karla auf. Dabei begegnet sie ihrer Jugendliebe Nils.
SUMMARY:Inga Lindström: Das Flüstern der Pferde
DTSTART;TZID="(GMT+01.00) Amsterdam / Berlin / Bern / Rome / Stockholm / Vienna":20260618T201500
DTEND;TZID="(GMT+01.00) Amsterdam / Berlin / Bern / Rome / Stockholm / Vienna":20260618T214500
BEGIN:VALARM
TRIGGER:-PT60M
ACTION:DISPLAY
DESCRIPTION:Reminder
END:VALARM
END:VEVENT
END:VCALENDAR
