BEGIN:VCALENDAR
VERSION:2.0
CALSCALE:GREGORIAN
BEGIN:VEVENT
UID:69ecbe6727ab3
X-MICROSOFT-CDO-BUSYSTATUS:FREE
DTSTAMP:
LOCATION:na Romance TV Polska
DESCRIPTION:Eva musi odwiedzić służbowo zamek Katarinaberg. Zabiera ze sobą swoją chorą córkę\, Annikę. Eva poznaje na zamku Petera\, syna właściciela majątku. Obecność Petera i trzymanych w majątku koni wspaniale wpływa na Annikę. Eva jest zainteresowana Peterem. Ale on poznaje prawdziwy powód wizyty Evy i czuje się oszukany. Eva jest rozdarta między swoją pracą a miłością do Petera.
SUMMARY:Inga Lindström: Konie z Katarinabergu
DTSTART;TZID="(GMT+01.00) Amsterdam / Berlin / Bern / Rome / Stockholm / Vienna":20260602T161000
DTEND;TZID="(GMT+01.00) Amsterdam / Berlin / Bern / Rome / Stockholm / Vienna":20260602T181000
BEGIN:VALARM
TRIGGER:-PT60M
ACTION:DISPLAY
DESCRIPTION:Reminder
END:VALARM
END:VEVENT
END:VCALENDAR
